BEGIN:VCALENDAR
VERSION:2.0
PRODID:-//hacksw/handcal//NONSGML v1.0//EN
CALSCALE:GREGORIAN
BEGIN:VEVENT
DTEND:20080208T230000Z
UID:69ed7e5f98cc2
DTSTAMP:20260426T035423Z
LOCATION:65599 Dornburg
DESCRIPTION:
URL;VALUE=URI:
SUMMARY:Winterlaufserie Dornburg-Frickhofen  
DTSTART:20080208T230000Z
END:VEVENT
END:VCALENDAR
An internal server error occurred.