BEGIN:VCALENDAR
VERSION:2.0
PRODID:-//hacksw/handcal//NONSGML v1.0//EN
CALSCALE:GREGORIAN
BEGIN:VEVENT
DTEND:20080119T230000Z
UID:69e9b1b1177e8
DTSTAMP:20260423T064417Z
LOCATION:54552 Mehren
DESCRIPTION:
URL;VALUE=URI:
SUMMARY:Lauf zur Crosslauf-Serie Mehren 
DTSTART:20080119T230000Z
END:VEVENT
END:VCALENDAR
An internal server error occurred.