BEGIN:VCALENDAR
VERSION:2.0
PRODID:-//hacksw/handcal//NONSGML v1.0//EN
CALSCALE:GREGORIAN
BEGIN:VEVENT
DTEND:20080628T090000Z
UID:69eab8c3b9acd
DTSTAMP:20260424T012643Z
LOCATION:4000 Spital Pyhrn
DESCRIPTION:
URL;VALUE=URI:
SUMMARY:Naturfreunde-Berglauf von Hotel zur Hütte
DTSTART:20080627T230000Z
END:VEVENT
END:VCALENDAR
An internal server error occurred.