BEGIN:VCALENDAR
VERSION:2.0
PRODID:-//hacksw/handcal//NONSGML v1.0//EN
CALSCALE:GREGORIAN
BEGIN:VEVENT
DTEND:20080517T130000Z
UID:69ece2ca8919f
DTSTAMP:20260425T165034Z
LOCATION:1020 Wien
DESCRIPTION:
URL;VALUE=URI:
SUMMARY:Kinderlauf Laufen macht Spaß - Wien Prater
DTSTART:20080516T230000Z
END:VEVENT
END:VCALENDAR
An internal server error occurred.