BEGIN:VCALENDAR
VERSION:2.0
PRODID:-//hacksw/handcal//NONSGML v1.0//EN
CALSCALE:GREGORIAN
BEGIN:VEVENT
DTEND:20081231T080000Z
UID:69eae97bf333b
DTSTAMP:20260424T045435Z
LOCATION:7152 Pamhagen
DESCRIPTION:
URL;VALUE=URI:
SUMMARY:Pamhagen Vila Vita Silvesterlauf
DTSTART:20081230T230000Z
END:VEVENT
END:VCALENDAR
An internal server error occurred.