BEGIN:VCALENDAR
VERSION:2.0
PRODID:-//hacksw/handcal//NONSGML v1.0//EN
CALSCALE:GREGORIAN
BEGIN:VEVENT
DTEND:20070722T130000Z
UID:69e9568df3fb6
DTSTAMP:20260423T001525Z
LOCATION:8942 Wörschach
DESCRIPTION:
URL;VALUE=URI:
SUMMARY:24Stundenlauf in Wörschach  
DTSTART:20070721T230000Z
END:VEVENT
END:VCALENDAR
An internal server error occurred.