BEGIN:VCALENDAR
VERSION:2.0
PRODID:-//hacksw/handcal//NONSGML v1.0//EN
CALSCALE:GREGORIAN
BEGIN:VEVENT
DTEND:20081214T130000Z
UID:69ea815604e1f
DTSTAMP:20260423T213014Z
LOCATION:56856 Zell an der Mosel
DESCRIPTION:Tolle Atmosphäre in der Stadt der schwarzen Katz.
URL;VALUE=URI:
SUMMARY:5. Zeller Raiffeisenbank Adventslauf
DTSTART:20081213T230000Z
END:VEVENT
END:VCALENDAR
An internal server error occurred.