BEGIN:VCALENDAR
VERSION:2.0
PRODID:-//hacksw/handcal//NONSGML v1.0//EN
CALSCALE:GREGORIAN
BEGIN:VEVENT
DTEND:20080615T080000Z
UID:69e9d412deb32
DTSTAMP:20260423T091058Z
LOCATION:5412 Hallein
DESCRIPTION:
URL;VALUE=URI:
SUMMARY:Intersport Eybl Salzkristallauf Hallein
DTSTART:20080614T230000Z
END:VEVENT
END:VCALENDAR
An internal server error occurred.