BEGIN:VCALENDAR
VERSION:2.0
PRODID:-//hacksw/handcal//NONSGML v1.0//EN
CALSCALE:GREGORIAN
BEGIN:VEVENT
DTEND:20080525T080000Z
UID:69eca7c15623f
DTSTAMP:20260425T123841Z
LOCATION:7111 Parndorf
DESCRIPTION:
URL;VALUE=URI:
SUMMARY:3. Int. Burgenland Duathlon in Parndorf
DTSTART:20080524T230000Z
END:VEVENT
END:VCALENDAR
An internal server error occurred.