BEGIN:VCALENDAR
VERSION:2.0
PRODID:-//hacksw/handcal//NONSGML v1.0//EN
CALSCALE:GREGORIAN
BEGIN:VEVENT
DTEND:20081026T090000Z
UID:69ec2b64c9643
DTSTAMP:20260425T034804Z
LOCATION:4114 St. Martin im Mühlkreis
DESCRIPTION:
URL;VALUE=URI:
SUMMARY:10. Donautal Halbmarathon und 6. Donautal Volkslauf
DTSTART:20081025T230000Z
END:VEVENT
END:VCALENDAR
An internal server error occurred.