BEGIN:VCALENDAR
VERSION:2.0
PRODID:-//hacksw/handcal//NONSGML v1.0//EN
CALSCALE:GREGORIAN
BEGIN:VEVENT
DTEND:20080907T090000Z
UID:69eb2ab524a2f
DTSTAMP:20260424T093253Z
LOCATION:3510 Hollenburg an der Donau
DESCRIPTION:Anmeldung beim Radlertreff am Radweg an der Donau neben dem Sportplatz
URL;VALUE=URI:
SUMMARY:Berglauf zum Hollenburger Wetterkreuz
DTSTART:20080906T230000Z
END:VEVENT
END:VCALENDAR
An internal server error occurred.