BEGIN:VCALENDAR
VERSION:2.0
PRODID:-//hacksw/handcal//NONSGML v1.0//EN
CALSCALE:GREGORIAN
BEGIN:VEVENT
DTEND:20080119T070000Z
UID:69ece1615ca6a
DTSTAMP:20260425T164433Z
LOCATION:01968 Senftenberg
DESCRIPTION:Siegerehrung Lausitz-Laufserie 2007
Übernachtungen sind gegen ein geringes Entgelt (ca. 15\,-EURO incl. Frühstück) möglich (Tel: 03573-795919)
URL;VALUE=URI:
SUMMARY:2. Hallenmarathon in der Niederlausitzhalle Senftenberg
DTSTART:20080118T230000Z
END:VEVENT
END:VCALENDAR
An internal server error occurred.