BEGIN:VCALENDAR
VERSION:2.0
PRODID:-//hacksw/handcal//NONSGML v1.0//EN
CALSCALE:GREGORIAN
BEGIN:VEVENT
DTEND:20071007T100000Z
UID:69ebed8a08681
DTSTAMP:20260424T232410Z
LOCATION:91126 Schwabach
DESCRIPTION:
URL;VALUE=URI:
SUMMARY:Schwabacher City-Lauf und Sparkassen-Halbmarathon
DTSTART:20071006T230000Z
END:VEVENT
END:VCALENDAR
An internal server error occurred.