BEGIN:VCALENDAR
VERSION:2.0
PRODID:-//hacksw/handcal//NONSGML v1.0//EN
CALSCALE:GREGORIAN
BEGIN:VEVENT
DTEND:20070909T083000Z
UID:69e93bf24d2e3
DTSTAMP:20260422T222154Z
LOCATION:33602 Bielefeld
DESCRIPTION:Strecke komplett für den motorisierten Fahrzeugverkehr gesperrt  
URL;VALUE=URI:
SUMMARY:Stadtwerke run & roll day
DTSTART:20070908T230000Z
END:VEVENT
END:VCALENDAR
An internal server error occurred.