BEGIN:VCALENDAR
VERSION:2.0
PRODID:-//hacksw/handcal//NONSGML v1.0//EN
CALSCALE:GREGORIAN
BEGIN:VEVENT
DTEND:20070901T150000Z
UID:69e9567cc0464
DTSTAMP:20260423T001508Z
LOCATION:3550 Langenlois
DESCRIPTION:Topläufer dabei siehe Homepage
URL;VALUE=URI:
SUMMARY:22. Int. Langenloiser Stadtlauf
DTSTART:20070831T230000Z
END:VEVENT
END:VCALENDAR
An internal server error occurred.