BEGIN:VCALENDAR
VERSION:2.0
PRODID:-//hacksw/handcal//NONSGML v1.0//EN
CALSCALE:GREGORIAN
BEGIN:VEVENT
DTEND:20070902T090000Z
UID:69e972ad823dc
DTSTAMP:20260423T021525Z
LOCATION:73079 Süssen
DESCRIPTION:
URL;VALUE=URI:
SUMMARY:1. Süssener Sportparklauf 
DTSTART:20070901T230000Z
END:VEVENT
END:VCALENDAR
An internal server error occurred.