BEGIN:VCALENDAR
VERSION:2.0
PRODID:-//hacksw/handcal//NONSGML v1.0//EN
CALSCALE:GREGORIAN
BEGIN:VEVENT
DTEND:20070825T140000Z
UID:69e9567f1c20e
DTSTAMP:20260423T001511Z
LOCATION:59302 Oelde-Stromberg
DESCRIPTION:Walkingstrecken über 5 und 10 km ebenfalls im Angebot
URL;VALUE=URI:
SUMMARY:29. Stromberger Burggrafenlauf
DTSTART:20070824T230000Z
END:VEVENT
END:VCALENDAR
An internal server error occurred.