BEGIN:VCALENDAR
VERSION:2.0
PRODID:-//hacksw/handcal//NONSGML v1.0//EN
CALSCALE:GREGORIAN
BEGIN:VEVENT
DTEND:20070826T090000Z
UID:69e9950d2a326
DTSTAMP:20260423T044205Z
LOCATION:10965 Berlin
DESCRIPTION:
URL;VALUE=URI:
SUMMARY:22. Kreuzberger Viertelmarathon
DTSTART:20070825T230000Z
END:VEVENT
END:VCALENDAR
An internal server error occurred.