BEGIN:VCALENDAR
VERSION:2.0
PRODID:-//hacksw/handcal//NONSGML v1.0//EN
CALSCALE:GREGORIAN
BEGIN:VEVENT
DTEND:20070831T175000Z
UID:69e9278be6764
DTSTAMP:20260422T205451Z
LOCATION:24159 Kiel
DESCRIPTION:Einzigartiger Lauf in maritimer Umgebung!
URL;VALUE=URI:
SUMMARY:14. easyCredit Straßenlauf 
DTSTART:20070830T230000Z
END:VEVENT
END:VCALENDAR
An internal server error occurred.