BEGIN:VCALENDAR
VERSION:2.0
PRODID:-//hacksw/handcal//NONSGML v1.0//EN
CALSCALE:GREGORIAN
BEGIN:VEVENT
DTEND:20070819T130000Z
UID:69e8f997e0b0e
DTSTAMP:20260422T173847Z
LOCATION:35390 Gießen
DESCRIPTION:Stadtlauf/Benefizlauf
URL;VALUE=URI:
SUMMARY:Run´n Roll for Help
DTSTART:20070818T230000Z
END:VEVENT
END:VCALENDAR
An internal server error occurred.