BEGIN:VCALENDAR
VERSION:2.0
PRODID:-//hacksw/handcal//NONSGML v1.0//EN
CALSCALE:GREGORIAN
BEGIN:VEVENT
DTEND:20070929T090000Z
UID:69eac6c53f9c3
DTSTAMP:20260424T022629Z
LOCATION:8662 Mitterdorf im Mürztal
DESCRIPTION:Tolles Kinderprogramm mit Sport\, Spiel und Spass
URL;VALUE=URI:
SUMMARY:Schloss Pichl-Lauf - beim OEAV Sport Event 2007
DTSTART:20070928T230000Z
END:VEVENT
END:VCALENDAR
An internal server error occurred.