BEGIN:VCALENDAR
VERSION:2.0
PRODID:-//hacksw/handcal//NONSGML v1.0//EN
CALSCALE:GREGORIAN
BEGIN:VEVENT
DTEND:20070818T073000Z
UID:69e863558be7a
DTSTAMP:20260422T065741Z
LOCATION:42499 Hückeswagen
DESCRIPTION:Es werden über beide Distanzen auch Staffeln angeboten.

URL;VALUE=URI:
SUMMARY:25. Hückeswagener Triathlon
DTSTART:20070817T230000Z
END:VEVENT
END:VCALENDAR
An internal server error occurred.