BEGIN:VCALENDAR
VERSION:2.0
PRODID:-//hacksw/handcal//NONSGML v1.0//EN
CALSCALE:GREGORIAN
BEGIN:VEVENT
DTEND:20070824T160000Z
UID:69e990db9907b
DTSTAMP:20260423T042411Z
LOCATION:8623 Aflenz Kurort
DESCRIPTION:
URL;VALUE=URI:
SUMMARY:Aflenzer Marktlauf
DTSTART:20070823T230000Z
END:VEVENT
END:VCALENDAR
An internal server error occurred.