BEGIN:VCALENDAR
VERSION:2.0
PRODID:-//hacksw/handcal//NONSGML v1.0//EN
CALSCALE:GREGORIAN
BEGIN:VEVENT
DTEND:20070915T130000Z
UID:69e994f29aba9
DTSTAMP:20260423T044138Z
LOCATION:4731 Prambachkirchen
DESCRIPTION:(Bezirksmeisterschaft und Fit-Lauf)
Eferdinger Lauf-Bezirksmeisterschaft mit Gästewertung\; Fit-Lauf für Jung und Alt
URL;VALUE=URI:
SUMMARY:Prambachkirchner Lauf-Event 
DTSTART:20070914T230000Z
END:VEVENT
END:VCALENDAR
An internal server error occurred.