BEGIN:VCALENDAR
VERSION:2.0
PRODID:-//hacksw/handcal//NONSGML v1.0//EN
CALSCALE:GREGORIAN
BEGIN:VEVENT
DTEND:20070915T080000Z
UID:69e994e8ebbf2
DTSTAMP:20260423T044128Z
LOCATION:51429 Bergisch Gladbach (Bensberg)
DESCRIPTION:Qualifizierter Ausbildungslehrgang zum "Instructor"\, für den Basic Instructor\, der mit mehr Kompetenz seinen Unterricht gestalten möchte.
URL;VALUE=URI:
SUMMARY:Ausbildung: DNV Instructor
DTSTART:20070914T230000Z
END:VEVENT
END:VCALENDAR
An internal server error occurred.