BEGIN:VCALENDAR
VERSION:2.0
PRODID:-//hacksw/handcal//NONSGML v1.0//EN
CALSCALE:GREGORIAN
BEGIN:VEVENT
DTEND:20070701T110000Z
UID:69e7b756205f8
DTSTAMP:20260421T184350Z
LOCATION:63477 Frankfurt
DESCRIPTION:
URL;VALUE=URI:
SUMMARY:Ironman Frankfurt
DTSTART:20070630T230000Z
END:VEVENT
END:VCALENDAR
An internal server error occurred.