BEGIN:VCALENDAR
VERSION:2.0
PRODID:-//hacksw/handcal//NONSGML v1.0//EN
CALSCALE:GREGORIAN
BEGIN:VEVENT
DTEND:20070623T110000Z
UID:69e79d9453d69
DTSTAMP:20260421T165356Z
LOCATION:91143 Roth
DESCRIPTION:
URL;VALUE=URI:
SUMMARY:Quelle Challenge Roth
DTSTART:20070622T230000Z
END:VEVENT
END:VCALENDAR
An internal server error occurred.