BEGIN:VCALENDAR
VERSION:2.0
PRODID:-//hacksw/handcal//NONSGML v1.0//EN
CALSCALE:GREGORIAN
BEGIN:VEVENT
DTEND:20070819T110000Z
UID:69eca3e8d4560
DTSTAMP:20260425T122216Z
LOCATION:51373 Leverkusen
DESCRIPTION:
URL;VALUE=URI:
SUMMARY:Leverkusen Triathlon
DTSTART:20070818T230000Z
END:VEVENT
END:VCALENDAR
An internal server error occurred.