BEGIN:VCALENDAR
VERSION:2.0
PRODID:-//hacksw/handcal//NONSGML v1.0//EN
CALSCALE:GREGORIAN
BEGIN:VEVENT
DTEND:20070707T110000Z
UID:69e7e3dfc263e
DTSTAMP:20260421T215351Z
LOCATION:25826 St. Peter Ording
DESCRIPTION:
URL;VALUE=URI:
SUMMARY:Gegen den Wind Triathlon St. Peter Ording
DTSTART:20070706T230000Z
END:VEVENT
END:VCALENDAR
An internal server error occurred.