BEGIN:VCALENDAR
VERSION:2.0
PRODID:-//hacksw/handcal//NONSGML v1.0//EN
CALSCALE:GREGORIAN
BEGIN:VEVENT
DTEND:20070819T110000Z
UID:69e92cb1ce446
DTSTAMP:20260422T211649Z
LOCATION:0 Wiesbaden
DESCRIPTION:
URL;VALUE=URI:
SUMMARY:Ironman 70.3 Wiesbaden
DTSTART:20070818T230000Z
END:VEVENT
END:VCALENDAR
An internal server error occurred.