BEGIN:VCALENDAR
VERSION:2.0
PRODID:-//hacksw/handcal//NONSGML v1.0//EN
CALSCALE:GREGORIAN
BEGIN:VEVENT
DTEND:20070721T170000Z
UID:69e99542afb69
DTSTAMP:20260423T044258Z
LOCATION:91710 Gunzenhausen-Unterwurmbac
DESCRIPTION:
URL;VALUE=URI:
SUMMARY:Altmühlseelauf Unterwurmbach
DTSTART:20070720T230000Z
END:VEVENT
END:VCALENDAR
An internal server error occurred.