BEGIN:VCALENDAR
VERSION:2.0
PRODID:-//hacksw/handcal//NONSGML v1.0//EN
CALSCALE:GREGORIAN
BEGIN:VEVENT
DTEND:20070715T090000Z
UID:69e812253e1b5
DTSTAMP:20260422T011117Z
LOCATION:4694 Ohlsdorf - Badesee Aurachkirchen
DESCRIPTION:
URL;VALUE=URI:
SUMMARY:Sautrog-Regatta  
DTSTART:20070714T230000Z
END:VEVENT
END:VCALENDAR
An internal server error occurred.