BEGIN:VCALENDAR
VERSION:2.0
PRODID:-//hacksw/handcal//NONSGML v1.0//EN
CALSCALE:GREGORIAN
BEGIN:VEVENT
DTEND:20070713T173000Z
UID:69e81223de0f1
DTSTAMP:20260422T011115Z
LOCATION:97346 Iphofen
DESCRIPTION:Lauf von Iphofen nach Castell
URL;VALUE=URI:
SUMMARY:Schwanberglauf
DTSTART:20070712T230000Z
END:VEVENT
END:VCALENDAR
An internal server error occurred.