BEGIN:VCALENDAR
VERSION:2.0
PRODID:-//hacksw/handcal//NONSGML v1.0//EN
CALSCALE:GREGORIAN
BEGIN:VEVENT
DTEND:20070722T080000Z
UID:69e84b313c040
DTSTAMP:20260422T051441Z
LOCATION:76698 Weiher
DESCRIPTION:Schlemmerfest direkt bei Start und Ziel.
URL;VALUE=URI:
SUMMARY:5. Weiherer Hardtseelauf 2.Tag
DTSTART:20070721T230000Z
END:VEVENT
END:VCALENDAR
An internal server error occurred.