BEGIN:VCALENDAR
VERSION:2.0
PRODID:-//hacksw/handcal//NONSGML v1.0//EN
CALSCALE:GREGORIAN
BEGIN:VEVENT
DTEND:20070721T180000Z
UID:69e93d43c0b23
DTSTAMP:20260422T222731Z
LOCATION:76698 Weiher
DESCRIPTION:Schöner Lauf durch das Hardtseegelände und den Hardtwald.
URL;VALUE=URI:
SUMMARY:5. Weiherer Hardtseelauf 1. Tag
DTSTART:20070720T230000Z
END:VEVENT
END:VCALENDAR
An internal server error occurred.