BEGIN:VCALENDAR
VERSION:2.0
PRODID:-//hacksw/handcal//NONSGML v1.0//EN
CALSCALE:GREGORIAN
BEGIN:VEVENT
DTEND:20070714T130000Z
UID:69e859db748f4
DTSTAMP:20260422T061715Z
LOCATION:4020 Linz
DESCRIPTION:Auf dem neuen Landschaftspark A7\, der durch die Einhausung der Autobahn entstanden ist\, findet dieser Lauf auf ebenem Gelände statt.
URL;VALUE=URI:
SUMMARY:Ein Park in Bewegung - Linz
DTSTART:20070713T230000Z
END:VEVENT
END:VCALENDAR
An internal server error occurred.