BEGIN:VCALENDAR
VERSION:2.0
PRODID:-//hacksw/handcal//NONSGML v1.0//EN
CALSCALE:GREGORIAN
BEGIN:VEVENT
DTEND:20070721T160000Z
UID:69e8b53943cb5
DTSTAMP:20260422T124705Z
LOCATION:2154 Gaubitsch
DESCRIPTION:Start und Zeil \, Hinter der Volksschule in Gaubitsch!!
Siegerehrung am Sportplatz im Rahmen des Sportlerheurigen!!

URL;VALUE=URI:
SUMMARY:1.Früschoppenteamlauf
DTSTART:20070720T230000Z
END:VEVENT
END:VCALENDAR
An internal server error occurred.