BEGIN:VCALENDAR
VERSION:2.0
PRODID:-//hacksw/handcal//NONSGML v1.0//EN
CALSCALE:GREGORIAN
BEGIN:VEVENT
DTEND:20070708T154500Z
UID:69e81221ab19f
DTSTAMP:20260422T011113Z
LOCATION:63906 Erlenbach
DESCRIPTION:mit Livemusik während und nach dem Lauf und After-Run-PArty
URL;VALUE=URI:
SUMMARY:2. Barbarossalauf
DTSTART:20070707T230000Z
END:VEVENT
END:VCALENDAR
An internal server error occurred.