BEGIN:VCALENDAR
VERSION:2.0
PRODID:-//hacksw/handcal//NONSGML v1.0//EN
CALSCALE:GREGORIAN
BEGIN:VEVENT
DTEND:20070811T070000Z
UID:69e9568892e71
DTSTAMP:20260423T001520Z
LOCATION:2340 Mödling
DESCRIPTION:Und es gibt ihn doch -

den Wienerwald Marathon in Mödling!

Am Samstag\, 11. August 2007\, um 8 Uhr startet der Marathon\, um 9.30 Uhr der RAIKA Halbmarathon.

Die echte Herausforderung im Herzen des Wienerwaldes\, 1800 Höhenmeter auf den 42\,195km\, 800 auf der Halbmarathon-Distanz!
Mittlerweile ein Klassiker der Landschaftsläufe\, kein Asphalt\, die Strecke führt über Gumpoldskirchen\, Baden\, Siegenfeld und Gaaden über den Anninger zurück in die Europastadt Mödling.
Ziel ist das Rathaus\, optimale Läuferbetreuung durch das Bständig4sports-Team nach dem Rennen\, Finisher-Leibchen\, Shuttle-Service von der Anmeldung (Jakob-Thoma-Schulzentrum) zum Start (Steinbruch Goldene Stiege).

Aktuell: NÖ Kinder- und Hobby-Friedenslauf von 9.30 Uhr – 10.30 Uhr ums Mödlinger Rathaus!

Reichliche Verpflegung auf der Rennstrecke\, Anmeldungen im Internet unter: www.wienerwaldmarathon.at

Mailadresse: preissl1@wienerwaldmarathon.at

Info: 0699 1157 2783

URL;VALUE=URI:
SUMMARY:5.Wienerwaldmarathon und 5.Raika Halbmarathon
DTSTART:20070810T230000Z
END:VEVENT
END:VCALENDAR
An internal server error occurred.