BEGIN:VCALENDAR
VERSION:2.0
PRODID:-//hacksw/handcal//NONSGML v1.0//EN
CALSCALE:GREGORIAN
BEGIN:VEVENT
DTEND:20070728T120000Z
UID:69e859daec97c
DTSTAMP:20260422T061714Z
LOCATION:31812 Bad Pyrmont
DESCRIPTION:
URL;VALUE=URI:
SUMMARY:Int. BadPyrmont Marathon
DTSTART:20070727T230000Z
END:VEVENT
END:VCALENDAR
An internal server error occurred.