BEGIN:VCALENDAR
VERSION:2.0
PRODID:-//hacksw/handcal//NONSGML v1.0//EN
CALSCALE:GREGORIAN
BEGIN:VEVENT
DTEND:20070901T130000Z
UID:69e92cbf414de
DTSTAMP:20260422T211703Z
LOCATION:4204 Haibach i.M.
DESCRIPTION:
URL;VALUE=URI:
SUMMARY:4. Haibacher Marterllauf
DTSTART:20070831T230000Z
END:VEVENT
END:VCALENDAR
An internal server error occurred.