BEGIN:VCALENDAR
VERSION:2.0
PRODID:-//hacksw/handcal//NONSGML v1.0//EN
CALSCALE:GREGORIAN
BEGIN:VEVENT
DTEND:20070626T123000Z
UID:69e7a356e61de
DTSTAMP:20260421T171830Z
LOCATION:2151 Asparn
DESCRIPTION:Der 2. Leiser Berge Cross-Duathlon 2007 ist eine Veranstaltung der Kleinregion Leiser Berge - Mistelbach in Kooperation mit dem LAC Harlekin Mistelbach. 

Der Duathlon startet am Sonntag\, den 24. Juni 2007 um 16 Uhr in der Kleinregion Leiser Berge - Mistelbach in Asparn. Der Duathlon findet jedes Jahr in einer anderen Mitgliedsgemeinde statt. Der Cross-Duathlon findet bei jedem Wetter statt.
URL;VALUE=URI:
SUMMARY:2. Leiser Berge Crossduathlon
DTSTART:20070625T230000Z
END:VEVENT
END:VCALENDAR
An internal server error occurred.