BEGIN:VCALENDAR
VERSION:2.0
PRODID:-//hacksw/handcal//NONSGML v1.0//EN
CALSCALE:GREGORIAN
BEGIN:VEVENT
DTEND:20070902T070000Z
UID:69e93d3339edc
DTSTAMP:20260422T222715Z
LOCATION:3203 Rabenstein
DESCRIPTION:
URL;VALUE=URI:
SUMMARY:Pielachtaler - Radmarathon
DTSTART:20070901T230000Z
END:VEVENT
END:VCALENDAR
An internal server error occurred.