BEGIN:VCALENDAR
VERSION:2.0
PRODID:-//hacksw/handcal//NONSGML v1.0//EN
CALSCALE:GREGORIAN
BEGIN:VEVENT
DTEND:20070728T230000Z
UID:69e86357a32a2
DTSTAMP:20260422T065743Z
LOCATION:9564 Falkertsee
DESCRIPTION:Ein einzigartiger Berg-Triathlon auf knapp 2.000 Metern Seehöhe in Mitten der Kärntner Nockberge\; für 3er Teams oder Einzelstarter\; Viele wertvolle Sachpreise und ein tolles Rahmenprogramm warten auf die Teilnehmer.
URL;VALUE=URI:
SUMMARY:7. Falkert Nock Triathlon
DTSTART:20070728T230000Z
END:VEVENT
END:VCALENDAR
An internal server error occurred.