BEGIN:VCALENDAR
VERSION:2.0
PRODID:-//hacksw/handcal//NONSGML v1.0//EN
CALSCALE:GREGORIAN
BEGIN:VEVENT
DTEND:20070630T150000Z
UID:69e7b756bc093
DTSTAMP:20260421T184350Z
LOCATION:88212 Ravensburg
DESCRIPTION:Vom Bambini-Lauf über die Firmenstaffel\, hier kann wirklich jeder mitmachen.
URL;VALUE=URI:
SUMMARY:Stadtlauf Ravensburg
DTSTART:20070629T230000Z
END:VEVENT
END:VCALENDAR
An internal server error occurred.