BEGIN:VCALENDAR
VERSION:2.0
PRODID:-//hacksw/handcal//NONSGML v1.0//EN
CALSCALE:GREGORIAN
BEGIN:VEVENT
DTEND:20070914T090000Z
UID:69e9952180d5f
DTSTAMP:20260423T044225Z
LOCATION:30159 Hannover
DESCRIPTION:
URL;VALUE=URI:
SUMMARY:Sportscheck Hannover Nachtlauf
DTSTART:20070913T230000Z
END:VEVENT
END:VCALENDAR
An internal server error occurred.