BEGIN:VCALENDAR
VERSION:2.0
PRODID:-//hacksw/handcal//NONSGML v1.0//EN
CALSCALE:GREGORIAN
BEGIN:VEVENT
DTEND:20070708T090000Z
UID:69e9951cb5587
DTSTAMP:20260423T044220Z
LOCATION:30159 Hannover
DESCRIPTION:
URL;VALUE=URI:
SUMMARY:7. E.ON Avacon Skater Marathon +Handbiker Hannover - Celle
DTSTART:20070707T230000Z
END:VEVENT
END:VCALENDAR
An internal server error occurred.