BEGIN:VCALENDAR
VERSION:2.0
PRODID:-//hacksw/handcal//NONSGML v1.0//EN
CALSCALE:GREGORIAN
BEGIN:VEVENT
DTEND:20070624T090000Z
UID:69e79d950ca80
DTSTAMP:20260421T165357Z
LOCATION:80331 München
DESCRIPTION:
URL;VALUE=URI:
SUMMARY:Sportscheck München 
DTSTART:20070623T230000Z
END:VEVENT
END:VCALENDAR
An internal server error occurred.