BEGIN:VCALENDAR
VERSION:2.0
PRODID:-//hacksw/handcal//NONSGML v1.0//EN
CALSCALE:GREGORIAN
BEGIN:VEVENT
DTEND:20070909T110000Z
UID:69e93b7f1cda3
DTSTAMP:20260422T221959Z
LOCATION:67547 Worms
DESCRIPTION:
URL;VALUE=URI:
SUMMARY:Nibelungenlauf Worms
DTSTART:20070908T230000Z
END:VEVENT
END:VCALENDAR
An internal server error occurred.