BEGIN:VCALENDAR
VERSION:2.0
PRODID:-//hacksw/handcal//NONSGML v1.0//EN
CALSCALE:GREGORIAN
BEGIN:VEVENT
DTEND:20070617T090000Z
UID:69e7d991c07bf
DTSTAMP:20260421T210953Z
LOCATION:86150 Augsburg
DESCRIPTION:
URL;VALUE=URI:
SUMMARY:Augsburger Stadtlauf
DTSTART:20070616T230000Z
END:VEVENT
END:VCALENDAR
An internal server error occurred.